BEGIN:VCALENDAR
VERSION:2.0
PRODID:-//Bohinj - uradna stran destinacije - TNP, Julijske Alpe, Bohinjsko jezero - ECPv6.15.18//NONSGML v1.0//EN
CALSCALE:GREGORIAN
METHOD:PUBLISH
X-WR-CALNAME:Bohinj - uradna stran destinacije - TNP, Julijske Alpe, Bohinjsko jezero
X-ORIGINAL-URL:https://www.bohinj.si
X-WR-CALDESC:Dogodki za Bohinj - uradna stran destinacije - TNP, Julijske Alpe, Bohinjsko jezero
REFRESH-INTERVAL;VALUE=DURATION:PT1H
X-Robots-Tag:noindex
X-PUBLISHED-TTL:PT1H
BEGIN:VTIMEZONE
TZID:Europe/Ljubljana
BEGIN:DAYLIGHT
TZOFFSETFROM:+0100
TZOFFSETTO:+0200
TZNAME:CEST
DTSTART:20240331T010000
END:DAYLIGHT
BEGIN:STANDARD
TZOFFSETFROM:+0200
TZOFFSETTO:+0100
TZNAME:CET
DTSTART:20241027T010000
END:STANDARD
BEGIN:DAYLIGHT
TZOFFSETFROM:+0100
TZOFFSETTO:+0200
TZNAME:CEST
DTSTART:20250330T010000
END:DAYLIGHT
BEGIN:STANDARD
TZOFFSETFROM:+0200
TZOFFSETTO:+0100
TZNAME:CET
DTSTART:20251026T010000
END:STANDARD
BEGIN:DAYLIGHT
TZOFFSETFROM:+0100
TZOFFSETTO:+0200
TZNAME:CEST
DTSTART:20260329T010000
END:DAYLIGHT
BEGIN:STANDARD
TZOFFSETFROM:+0200
TZOFFSETTO:+0100
TZNAME:CET
DTSTART:20261025T010000
END:STANDARD
END:VTIMEZONE
BEGIN:VEVENT
DTSTART;TZID=Europe/Ljubljana:20251222T160000
DTEND;TZID=Europe/Ljubljana:20251222T180000
DTSTAMP:20260420T073846
CREATED:20251125T124334Z
LAST-MODIFIED:20251125T134016Z
UID:149424-1766419200-1766426400@www.bohinj.si
SUMMARY:Legenda od Zlatorogu
DESCRIPTION:Pestro dogajanje na večnamenskem promocijsko prireditvenem prostoru v Bohinjski Bistrici. \n\n16:00 – 18:00 – Izdelava zlatih rogov\, Cvetulka (delavnica za otroke)✨\n\nVabljeni na delavnico\, kjer si bo vsak lahko izdelal svoje zlatorogovo rogovje! Delavnico bosta vodili Rozi in Špela. \n\n17:00 – “SAM TA KRATKI” – projekcija kratkih filmov – “Legenda o zlatorogu”\n17:00 – Pripovedovanje z dramskim krožkom KUD Srednja vas v Bohinju – “o Zlatorogu”🐐\n\nDogodek je brezplačen\, vabljeni!
URL:https://www.bohinj.si/prireditev/o-zlatorogu/
LOCATION:Večnamenski promocijsko prireditveni prostor v Bohinjski Bistrici\, Triglavska cesta 23\, Bohinjska Bistrica\, 4264\, Slovenija
CATEGORIES:Advent,Delavnice,Za otroke
ATTACH;FMTTYPE=image/png:https://www.bohinj.si/wp-content/uploads/2025/11/osnova-prazna-ZLATOROG-1.png
ORGANIZER;CN="Turizem Bohinj":MAILTO:info@bohinj.si
END:VEVENT
END:VCALENDAR