BEGIN:VCALENDAR
VERSION:2.0
PRODID:-//Bohinj - uradna stran destinacije - TNP, Julijske Alpe, Bohinjsko jezero - ECPv6.15.18//NONSGML v1.0//EN
CALSCALE:GREGORIAN
METHOD:PUBLISH
X-WR-CALNAME:Bohinj - uradna stran destinacije - TNP, Julijske Alpe, Bohinjsko jezero
X-ORIGINAL-URL:https://www.bohinj.si
X-WR-CALDESC:Dogodki za Bohinj - uradna stran destinacije - TNP, Julijske Alpe, Bohinjsko jezero
REFRESH-INTERVAL;VALUE=DURATION:PT1H
X-Robots-Tag:noindex
X-PUBLISHED-TTL:PT1H
BEGIN:VTIMEZONE
TZID:Europe/Ljubljana
BEGIN:DAYLIGHT
TZOFFSETFROM:+0100
TZOFFSETTO:+0200
TZNAME:CEST
DTSTART:20250330T010000
END:DAYLIGHT
BEGIN:STANDARD
TZOFFSETFROM:+0200
TZOFFSETTO:+0100
TZNAME:CET
DTSTART:20251026T010000
END:STANDARD
BEGIN:DAYLIGHT
TZOFFSETFROM:+0100
TZOFFSETTO:+0200
TZNAME:CEST
DTSTART:20260329T010000
END:DAYLIGHT
BEGIN:STANDARD
TZOFFSETFROM:+0200
TZOFFSETTO:+0100
TZNAME:CET
DTSTART:20261025T010000
END:STANDARD
BEGIN:DAYLIGHT
TZOFFSETFROM:+0100
TZOFFSETTO:+0200
TZNAME:CEST
DTSTART:20270328T010000
END:DAYLIGHT
BEGIN:STANDARD
TZOFFSETFROM:+0200
TZOFFSETTO:+0100
TZNAME:CET
DTSTART:20271031T010000
END:STANDARD
END:VTIMEZONE
BEGIN:VEVENT
DTSTART;VALUE=DATE:20260305
DTEND;VALUE=DATE:20260309
DTSTAMP:20260423T002803
CREATED:20260120T105514Z
LAST-MODIFIED:20260223T100004Z
UID:10013594-1772668800-1773014399@www.bohinj.si
SUMMARY:Turno smučarski festival Bohinj
DESCRIPTION:PRVI TURNOSMUČARSKI FESTIVAL V SLOVENIJI \nVečdnevni turnosmučarski festival z izobraževalnim\, terenskim in trail tekmovalnim programom v Bohinju. \nTurnosmučarski festival Bohinj ponuja celovit program\, ki vključuje izobraževalne delavnice\, vodene turnosmučarske ture\, večdnevne avanture\, turnosmučarski in trail tekmovalni del festivala ter spremljevalno družabno dogajanje. \nPRIJAVA IN OSTALE POMEMBNE INFORMACIJE: https://tsf.bohinj.si/ \n\nZa informacije o delavnicah in vodenih turah: book@outventure-x.com\nZa splošne informacije ali vprašanja o tekmah: info@trailrun.si\n\nLokacija: \nOsrednja lokacija turnosmučarskega festivala je Bohinj z okoliškimi kraji in gorami. Od Bohinjske Bistrice do Soriške planine in Pokljuke. \nO Festivalu: \nTurnosmučarski festival Bohinj je prostor za vse\, ki jih privlači turno smučanje\, zimsko gibanje v gorah ter želijo lepote gorskega sveta odkrivati na varen in odgovoren način. Poteka v Bohinju\, v osrčju Julijskih Alp – pokrajini z močno gorniško identiteto\, dolgo tradicijo gibanja v gorah in izrazitim stikom z naravo. \nFestival je zasnovan kot celostna izkušnja\, ki povezuje vodene turnosmučarske ture\, strokovne delavnice\, predavanja in tekmovalni del. Program je namenjen širokemu spektru udeležencev – od tistih\, ki se s turno smuko šele spoznavajo\, do izkušenih smučarjev\, ki iščejo zahtevnejše terene\, boljše razumevanje razmer in poglobljeno znanje. Skozi lažje aktivnosti in spremljevalno dogajanje je festival odprt tudi za spremljevalce in mlajše obiskovalce. \nPoseben poudarek festivala je na razumevanju gorskega okolja\, zimskih razmer in tveganj\, ki so sestavni del gibanja v gorah. Turno smučanje ni le šport\, temveč proces odločanja\, presoje in prilagajanja. Nevarnosti v gorah so realnost\, ki jo je treba poznati\, spoštovati in upoštevati. Festival zato ne ponuja instant izkušnje\, temveč znanje\, doživetje in prostor za učenje v realnem gorskem okolju. \nTurnosmučarski festival Bohinj ni zgolj športni dogodek. Je prostor povezovanja skupnosti\, izmenjave izkušenj in gradnje spoštljivega odnosa do gora. Je festival\, kjer se gibanje\, znanje in doživetje povežejo v avtentično zimsko izkušnjo. \nJATrail d.o.o. je glavni operativni in tehnični partner festivala. Odgovoren je za celostno izvedbo dodatnega programa\, tehnično podporo dogodku ter koordinacijo vseh izvedbenih aktivnosti na terenu. Vodene turnosmučarske ture in delavnice izvajajo vodniki OutVentureX z licenco IFMGA\, s poudarkom na odgovornem vodenju\, presoji razmer in jasni komunikaciji v realnem gorskem okolju. Ekipa ima dolgoletne izkušnje z organizacijo odmevnih športnih dogodkov\, med drugim Julian Alps Trail Run by UTMB\, Ultra Trail Run Vipava Valley in Soča Outdoor Festival\, z jasnim poudarkom na varnosti\, logistiki in visoki kakovosti izvedbe.
URL:https://www.bohinj.si/prireditev/turno-smucarski-festival-bohinj/
LOCATION:Bohinj\, Bohinj\, 4264\, Slovenija
CATEGORIES:Izobraževanje,Predavanje,Šport,Vodene aktivnosti
ATTACH;FMTTYPE=image/png:https://www.bohinj.si/wp-content/uploads/2026/01/VisitBohinj_TURNO_SMUCARSKI_FESTIVAL_ANG_ZIMA24_1.91_1.png
ORGANIZER;CN="Turizem Bohinj":MAILTO:info@bohinj.si
END:VEVENT
BEGIN:VEVENT
DTSTART;TZID=Europe/Ljubljana:20260306T090000
DTEND;TZID=Europe/Ljubljana:20260306T170000
DTSTAMP:20260423T002803
CREATED:20260302T101518Z
LAST-MODIFIED:20260302T101721Z
UID:10013634-1772787600-1772816400@www.bohinj.si
SUMMARY:KONFERENCA: IZZIVI OUTDOOR TURIZMA
DESCRIPTION:Strokovni posvet v okviru Turnosmučarskega festivala Bohinj 2026 \nOutdoor turizem je danes najmočnejši segment slovenskega turizma – še posebej v alpskem prostoru. A prav tam\, kjer so priložnosti največje\, so tudi izzivi najzahtevnejši. \nKako ohraniti naravo in kakovost življenja domačinov?Kako odgovorno upravljati tveganja?Kako razvijati produkte\, ki temeljijo na svobodi gibanja – in hkrati spoštujejo prostor? \nPosvet »Izzivi outdoor turizma«\, ki ga soorganizirata Turizem Bohinj in Fakulteta za turizem Univerze v Mariboru\, odpira prostor za strokovni razmislek in odkrito razpravo med predstavniki gospodarstva\, akademske sfere\, naravovarstvenih organizacij ter odločevalci na nacionalni in destinacijski ravni. \nDopoldanski del prinaša poglobljena predavanja domačih in tujih strokovnjakov\, sledi okrogla miza ključnih deležnikov slovenskega turizma. Popoldne je namenjeno tudi specializirani delavnici o upravljanju tveganj za outdoor ponudnike. \nČe vas zanima prihodnost razvoja outdoor turizma v Sloveniji – kot ponudnika\, upravljavca prostora\, raziskovalca ali aktivnega posameznika – vabljeni k ogledu programa in prijavi. \n🔗 Program
URL:https://www.bohinj.si/prireditev/konferenca-izzivi-outdoor-turizma/
LOCATION:Bohinj ECO Park Hotel\, Triglavska cesta 17\, Bohinjska Bistrica\, 4264\, Slovenija
CATEGORIES:Izobraževanje,Izpostavljeno,Predavanje,Turno smučarski festival
ATTACH;FMTTYPE=image/png:https://www.bohinj.si/wp-content/uploads/2026/03/FB-cover-dogodki-1.png
ORGANIZER;CN="Turizem Bohinj":MAILTO:info@bohinj.si
END:VEVENT
BEGIN:VEVENT
DTSTART;TZID=Europe/Ljubljana:20260312T180000
DTEND;TZID=Europe/Ljubljana:20260312T193000
DTSTAMP:20260423T002803
CREATED:20260302T130238Z
LAST-MODIFIED:20260302T130238Z
UID:10013636-1773338400-1773343800@www.bohinj.si
SUMMARY:Janko Humar: JULIANA - nov vodnik po daljinski pohodniški poti okoli Julijskih Alp
DESCRIPTION:Vabljeni na predstavitev novega vodnika po daljinski pohodniški poti Juliana avtorja Janka Humarja\, ki je izšel pri založbi Sidarta. Na dogodku bo avtor povedal več tako o vodniku kot o sami poti\, z njimin Klemenom Langusom\, direktorjem Turizma Bohinj in koordinatorjem Skupnosti Julijske Alpe\, pod okriljem katere je pot nastala\, pa se bo pogovarjala Ana Marija Kunstelj. \nNovi vodnik JULIANA popotnike vabi na 270 kilometrov dolgo pot okoli Julijskih Alp in Triglavskega narodnega parka. Dobili smo celovit vodnik o daljinski poti\, ki je le v nekaj letih postala ena najbolj prepoznavnih pohodniških poti v Evropi in je ambasadorka trajnostnega turizma v Julijskih Alpah. Poleg natančnih opisov etap\, zemljevidov in tehničnih podatkov prinaša še znamenitosti ob poti ter napotke za odgovoren obisk\, ki vodi v doživetje Juliane z razumevanjem in spoštovanjem. \nKnjigo in s tem Juliano bo predstavil Janko Humar\, dolgoletni direktor turističnih organizacij v dolini Soče\, pa tudi alpinist in poznavalec prostora Julijskih Alp. Trenutno kot samostojni svatovalec v turizmu s svojimi izkušnjami ter ljubeznijo do gora in narave sodeluje kot soustvarjalec in načrtovalec tematskih pohodniških poti. Je eden od avtorjev daljinske poti Alpe Adria Trail od Grossglocknerja do Jadrana ter avtor in soustvarjalec primorskega dela Juliane. Zasnoval je tudi štiridnevno turnosmučarsko povezavo Juliana Ski Tour med Kranjsko Goro in Tolminom. Vrsta njegovih pohodniških\, smučarskih in plezalnih opisov je objavljenih v digitalnih medijih in promocijskih materialih\, Juliana pa je njegov prvi knjižn vodnik. \nNa dogodku bo knjigo mogoče tudi kupiti. \nVABLJENI!
URL:https://www.bohinj.si/prireditev/janko-humar-juliana-nov-vodnik-po-daljinski-pohodniski-poti-okoli-julijskih-alp/
LOCATION:Center TNP Bohinj\, Stara Fužina 38\, Bohinjsko jezero\, 4265\, Slovenija
CATEGORIES:Izobraževanje
ATTACH;FMTTYPE=image/jpeg:https://www.bohinj.si/wp-content/uploads/2026/03/humar-vodenje.jpg
ORGANIZER;CN="Triglavski narodni park":MAILTO:info.bohinjka@tnp.gov.si
END:VEVENT
END:VCALENDAR