BEGIN:VCALENDAR
VERSION:2.0
PRODID:-//Bohinj - uradna stran destinacije - TNP, Julijske Alpe, Bohinjsko jezero - ECPv6.15.18//NONSGML v1.0//EN
CALSCALE:GREGORIAN
METHOD:PUBLISH
X-ORIGINAL-URL:https://www.bohinj.si
X-WR-CALDESC:Dogodki za Bohinj - uradna stran destinacije - TNP, Julijske Alpe, Bohinjsko jezero
REFRESH-INTERVAL;VALUE=DURATION:PT1H
X-Robots-Tag:noindex
X-PUBLISHED-TTL:PT1H
BEGIN:VTIMEZONE
TZID:Europe/Ljubljana
BEGIN:DAYLIGHT
TZOFFSETFROM:+0100
TZOFFSETTO:+0200
TZNAME:CEST
DTSTART:20240331T010000
END:DAYLIGHT
BEGIN:STANDARD
TZOFFSETFROM:+0200
TZOFFSETTO:+0100
TZNAME:CET
DTSTART:20241027T010000
END:STANDARD
BEGIN:DAYLIGHT
TZOFFSETFROM:+0100
TZOFFSETTO:+0200
TZNAME:CEST
DTSTART:20250330T010000
END:DAYLIGHT
BEGIN:STANDARD
TZOFFSETFROM:+0200
TZOFFSETTO:+0100
TZNAME:CET
DTSTART:20251026T010000
END:STANDARD
BEGIN:DAYLIGHT
TZOFFSETFROM:+0100
TZOFFSETTO:+0200
TZNAME:CEST
DTSTART:20260329T010000
END:DAYLIGHT
BEGIN:STANDARD
TZOFFSETFROM:+0200
TZOFFSETTO:+0100
TZNAME:CET
DTSTART:20261025T010000
END:STANDARD
BEGIN:DAYLIGHT
TZOFFSETFROM:+0100
TZOFFSETTO:+0200
TZNAME:CEST
DTSTART:20270328T010000
END:DAYLIGHT
BEGIN:STANDARD
TZOFFSETFROM:+0200
TZOFFSETTO:+0100
TZNAME:CET
DTSTART:20271031T010000
END:STANDARD
END:VTIMEZONE
BEGIN:VEVENT
DTSTART;TZID=Europe/Ljubljana:20251231T210000
DTEND;TZID=Europe/Ljubljana:20260101T030000
DTSTAMP:20260419T162554
CREATED:20251110T080722Z
LAST-MODIFIED:20251230T103826Z
UID:10012755-1767214800-1767236400@www.bohinj.si
SUMMARY:Silvestrovanje s Svizci
DESCRIPTION:Ko se leto izteka\, Bohinj znova zaživi v ritmih dobre glasbe\, smeha in pristnega veselja. \nV sredo\, 31. decembra 2025\, vas vabimo na Silvestrovanje s Svizci. Večer bo poln glasbe\, energije in pravega prazničnega vzdušja\, tako da v novo leto vstopimo z nasmehom in plesom. \nDogodek bo potekal v pokritem prireditvenem prostoru ob dvorani Danica v Bohinjski Bistrici\, kjer bo prijetno toplo in veselo. Od 21.00 do 3.00 bomo peli\, plesali in nazdravljali skupaj v sproščenem vzdušju\, ki ga zna pričarati le prava bohinjska silvestrska zabava. \nBREZPLAČNI PREVOZI:  \n\n4 linije: Spodnja dolina\, Zgornja dolina\, Gorjuše\, Ukanc\nObratujejo med 20:30 in 3:00 zjutraj\nVozni redi: https://promet.bohinj.si/prevozi/\n\nBREZPLAČNO PARKIRANJE:\nbo na dan dogoka omogočeno na naslednjih lokacijah: \n\npred OŠ Dr. Janeza Mencingerja\npred trgovino Spar ob pokopališču\nin na parkirišču ob smučišču Kobla\n\nPridite s prijatelji\, uživajte ob živi glasbi in dovolite\, da vas glasba ponese v praznično razpoloženje\, ko se poslavljamo od starega leta in vstopamo v leto 2026. \nNe zamudite popolnega načina za zaključek leta v Bohinju – pridružite se Silvestrovanju z Svizci in začnite novo leto z nepozabnimi spomini.
URL:https://www.bohinj.si/prireditev/silvestrovanje-s-svizci/
LOCATION:Prizorišče pred dvorano Danica\, Bohinjska Bistrica\, 4264\, Slovenija
CATEGORIES:Glasba,Izpostavljeno,Koncert,Kulturne,Veseli december
ATTACH;FMTTYPE=image/jpeg:https://www.bohinj.si/wp-content/uploads/2025/11/Svizci-1.jpg
ORGANIZER;CN="Turisti%C4%8Dno dru%C5%A1tvo Bohinj":MAILTO:info@tdbohinj.si
END:VEVENT
BEGIN:VEVENT
DTSTART;TZID=Europe/Ljubljana:20260103T170000
DTEND;TZID=Europe/Ljubljana:20260103T170000
DTSTAMP:20260419T162554
CREATED:20251119T104736Z
LAST-MODIFIED:20251210T105445Z
UID:10012786-1767459600-1767459600@www.bohinj.si
SUMMARY:Filmski večer: Božična mišelovka
DESCRIPTION:Prihaja mišja družina\, ki v svojem počitniškem domu načrtuje mirno božično praznovanje\, njihovo zabavo pa nenadoma prekinejo nepričakovana velika bitja – ljudje. \n\nCena: 5 €/po osebi\nNakup vstopnic pol ure pred začetkom filma v avli kulturnega doma!\n\nZgodba:\nBožič je tik pred vrati\, majhna mišja družina pa se pripravlja na velike praznike. Ata in sestrica sta nabirala oreščke in prinesla božično drevo\, babica in mama se kot vedno pričkata o tem\, katere božične tradicije so najpomembnejše\, medtem pa je veliki brat v svojem mehurčku in mu ni mar za nič. Vsi pa imajo nekaj skupnega: veselijo se še enega varnega\, zdravega in brezskrbnega božiča v prazni hiši! \nNenadoma pa vso hišo osvetlita zaslepljujoči luči\, veliki kot NLP. Nevarnost! Prihajajo ljudje. Vse sledi bo treba odstraniti. In miške so se za takšno situacijo izurile… V hišo vstopi štiričlanska družina. Z vrečkami\, polnimi okraskov in daril\, so pripravljeni na prijetne božične praznike na podeželju. \nKmalu pa odkrijejo\, da niso sami. Okoli njih se začnejo dogajati nepojasnjene stvari – utripajoče luči in škripajoči zvoki\, ki prihajajo iz notranjosti sten. Kakšen kraj je to\, se sprašujejo. Malih škodljivcev se skušajo hitro znebiti. Vendar se ne zavedajo\, da to niso le navadne hišne miši – ta druščina ima zelo posebne lastnosti in boj bo veliko težji\, kot si lahko kdorkoli predstavlja. \nO filmu:\nIZVIRNI NASLOV: Mouse Hunt for Christmas (Hvis ingen går i fella)\nŽANR: animirana pustolovščina​​\nMINUTAŽA: 80 min​​​\nIGRALCI: Sara Khorami\, Pål Sverre Hagen\, Flo Fagerli\, Vegard Strand Eide\, Jon Øigarden\, Catrin Gundersen\, Martin Sundland\nSLOVENSKI IGRALCI: Ernest Fejzić\, Gregor Gruden\, Tjaša Železnik\, Marli Železnik\, Sergej Milovanović\, Tina Resman\, Špela Kravogel\, Urh Mlakar\, Jure Mastnak\, Slavica Karan\, Luka Ličar\nREŽIJA: Henrik Martin Dahlsbakken\nSCENARIJ: Susanne Skogstad
URL:https://www.bohinj.si/prireditev/filmski-vecer-bozicna-miselovka/
LOCATION:Kulturni dom Joža Ažmana\, Triglavska cesta 16\, Bohinjska Bistrica\, 4264\, Slovenija
CATEGORIES:Advent,Kino,Za otroke
ATTACH;FMTTYPE=image/avif:https://www.bohinj.si/wp-content/uploads/2025/11/a65013_9d0c7427042243f49c06f26ba3734a4fmv2.avif
ORGANIZER;CN="Turizem Bohinj":MAILTO:info@bohinj.si
END:VEVENT
BEGIN:VEVENT
DTSTART;TZID=Europe/Ljubljana:20260110T190000
DTEND;TZID=Europe/Ljubljana:20260110T190000
DTSTAMP:20260419T162554
CREATED:20260108T135101Z
LAST-MODIFIED:20260108T135355Z
UID:10013591-1768071600-1768071600@www.bohinj.si
SUMMARY:Večer božičnih pesmi
DESCRIPTION:
URL:https://www.bohinj.si/prireditev/vecer-bozicnih-pesmi/
LOCATION:cerkev sv. Nikolaja v Bohinjski Bistrici\, Ajdovska cesta 22\, Bohinjska Bistrica
CATEGORIES:Glasba,Kulturne
ATTACH;FMTTYPE=image/jpeg:https://www.bohinj.si/wp-content/uploads/2026/01/PLAKAT-BOZICNI-KONCERT_page-0001-1.jpg
END:VEVENT
BEGIN:VEVENT
DTSTART;TZID=Europe/Ljubljana:20260124T190000
DTEND;TZID=Europe/Ljubljana:20260124T210000
DTSTAMP:20260419T162554
CREATED:20231016T124523Z
LAST-MODIFIED:20260107T124859Z
UID:10004254-1769281200-1769288400@www.bohinj.si
SUMMARY:Božično novoletni koncert Godbe Bohinj - PONOVITEV
DESCRIPTION:PONOVITEV Božičnega novoletnega koncerta Godbe Bohinj z dirigentom Markom Žirovnikom. \nGodba se bo predstavila s priljubljenimi skladbami iz godbenega repertoarja priredb narodnih in narodno zabavnih skladb\, obarvanih z božičnim in novoletnim razpoloženjem ter svetovnih zabavnih in klasičnih uspešnic. \n– – – – – – – – – – – – – – – – – – – – – – – – – – – – – – – – – – – – – – – \n\nVstopnina:\n– odrasli: 15€\n– otroci:  8 € (od 10. do 14. leta starosti)\n\n\nPredprodaja vstopnic:\n– Vstopnice bodo v predprodaji v avli Kulturnega doma Joža Ažmana 2 uri pred koncertom\, 24.1.2026  od 17. ure dalje\n– Vstopnice bodo na voljo tudi v pisarni Turističnega društva Bohinj\, Ribčev laz od 12.1.2026 dalje\n\nVljudno vabljeni na nastop Godbe Bohinj! \n 
URL:https://www.bohinj.si/prireditev/bozicno-novoletni-koncert-godbe-bohinj/
LOCATION:Kulturni dom Joža Ažmana\, Triglavska cesta 16\, Bohinjska Bistrica\, 4264\, Slovenija
CATEGORIES:Advent,Glasba,Izpostavljeno,Koncert,Kulturne,Veseli december
ATTACH;FMTTYPE=image/png:https://www.bohinj.si/wp-content/uploads/2023/10/godba-foto.png
END:VEVENT
END:VCALENDAR