BEGIN:VCALENDAR
VERSION:2.0
PRODID:-//Bohinj - uradna stran destinacije - TNP, Julijske Alpe, Bohinjsko jezero - ECPv6.15.18//NONSGML v1.0//EN
CALSCALE:GREGORIAN
METHOD:PUBLISH
X-ORIGINAL-URL:https://www.bohinj.si
X-WR-CALDESC:Dogodki za Bohinj - uradna stran destinacije - TNP, Julijske Alpe, Bohinjsko jezero
REFRESH-INTERVAL;VALUE=DURATION:PT1H
X-Robots-Tag:noindex
X-PUBLISHED-TTL:PT1H
BEGIN:VTIMEZONE
TZID:Europe/Ljubljana
BEGIN:DAYLIGHT
TZOFFSETFROM:+0100
TZOFFSETTO:+0200
TZNAME:CEST
DTSTART:20240331T010000
END:DAYLIGHT
BEGIN:STANDARD
TZOFFSETFROM:+0200
TZOFFSETTO:+0100
TZNAME:CET
DTSTART:20241027T010000
END:STANDARD
BEGIN:DAYLIGHT
TZOFFSETFROM:+0100
TZOFFSETTO:+0200
TZNAME:CEST
DTSTART:20250330T010000
END:DAYLIGHT
BEGIN:STANDARD
TZOFFSETFROM:+0200
TZOFFSETTO:+0100
TZNAME:CET
DTSTART:20251026T010000
END:STANDARD
BEGIN:DAYLIGHT
TZOFFSETFROM:+0100
TZOFFSETTO:+0200
TZNAME:CEST
DTSTART:20260329T010000
END:DAYLIGHT
BEGIN:STANDARD
TZOFFSETFROM:+0200
TZOFFSETTO:+0100
TZNAME:CET
DTSTART:20261025T010000
END:STANDARD
END:VTIMEZONE
BEGIN:VEVENT
DTSTART;TZID=Europe/Ljubljana:20251214T170000
DTEND;TZID=Europe/Ljubljana:20251214T170000
DTSTAMP:20260419T194550
CREATED:20251113T222606Z
LAST-MODIFIED:20251127T001901Z
UID:10012767-1765731600-1765731600@www.bohinj.si
SUMMARY:Prižig tretje adventne sveče z mladimi
DESCRIPTION:Prisrčno vabljeni na tretji dogodek serije Adventni venček Ribčev Laz\, kjer bomo pri spomeniku Štirim srčnim možem prižgali tretjo adventno svečo.\nDogodek bo potekal v spremljavi mladih glasbenikov\, ki bodo ustvarili praznično in prijetno vzdušje ob jezeru. \nSkupaj nadaljujmo praznično pot in se zberimo ob tretjem prižigu sveče v Ribčevem Lazu. \nZa več informacij: Špela Jensterle\, email: events@bohinj.si
URL:https://www.bohinj.si/prireditev/prizig-tretje-adventne-svece-z-mladimi/
LOCATION:Spomenik Štirim srčnim možem\, Bohinjsko jezero\, 4265\, Slovenija
CATEGORIES:Advent,Kulturne
ATTACH;FMTTYPE=image/jpeg:https://www.bohinj.si/wp-content/uploads/2025/11/theo-crazzolara-skxZy-zwVbo-unsplash.jpg
ORGANIZER;CN="Turizem Bohinj":MAILTO:info@bohinj.si
END:VEVENT
END:VCALENDAR