BEGIN:VCALENDAR
VERSION:2.0
PRODID:-//Bohinj - uradna stran destinacije - TNP, Julijske Alpe, Bohinjsko jezero - ECPv6.15.18//NONSGML v1.0//EN
CALSCALE:GREGORIAN
METHOD:PUBLISH
X-WR-CALNAME:Bohinj - uradna stran destinacije - TNP, Julijske Alpe, Bohinjsko jezero
X-ORIGINAL-URL:https://www.bohinj.si
X-WR-CALDESC:Dogodki za Bohinj - uradna stran destinacije - TNP, Julijske Alpe, Bohinjsko jezero
REFRESH-INTERVAL;VALUE=DURATION:PT1H
X-Robots-Tag:noindex
X-PUBLISHED-TTL:PT1H
BEGIN:VTIMEZONE
TZID:Europe/Ljubljana
BEGIN:DAYLIGHT
TZOFFSETFROM:+0100
TZOFFSETTO:+0200
TZNAME:CEST
DTSTART:20240331T010000
END:DAYLIGHT
BEGIN:STANDARD
TZOFFSETFROM:+0200
TZOFFSETTO:+0100
TZNAME:CET
DTSTART:20241027T010000
END:STANDARD
BEGIN:DAYLIGHT
TZOFFSETFROM:+0100
TZOFFSETTO:+0200
TZNAME:CEST
DTSTART:20250330T010000
END:DAYLIGHT
BEGIN:STANDARD
TZOFFSETFROM:+0200
TZOFFSETTO:+0100
TZNAME:CET
DTSTART:20251026T010000
END:STANDARD
BEGIN:DAYLIGHT
TZOFFSETFROM:+0100
TZOFFSETTO:+0200
TZNAME:CEST
DTSTART:20260329T010000
END:DAYLIGHT
BEGIN:STANDARD
TZOFFSETFROM:+0200
TZOFFSETTO:+0100
TZNAME:CET
DTSTART:20261025T010000
END:STANDARD
END:VTIMEZONE
BEGIN:VEVENT
DTSTART;TZID=Europe/Ljubljana:20251219T170000
DTEND;TZID=Europe/Ljubljana:20251219T190000
DTSTAMP:20260419T194126
CREATED:20241212T081120Z
LAST-MODIFIED:20251125T094456Z
UID:10008541-1766163600-1766170800@www.bohinj.si
SUMMARY:Božična plesna produkcija Plesalnice Bohinj
DESCRIPTION:Praznični čas je čas topline\, veselja in čarobnosti – in kaj je bolj čarobnega kot večer\, poln plesa\, glasbe in božičnega vzdušja? Pridružite se nam na izjemnem dogodku\, kjer bomo skupaj obeležili bližajoče se praznike z osupljivimi plesnimi nastopi in iskreno praznično energijo. \nPridite\, zaplešimo v praznike skupaj!
URL:https://www.bohinj.si/prireditev/bozicna-plesna-produkcija-plesalnice-bohinj/
LOCATION:Kulturni dom Joža Ažmana\, Triglavska cesta 16\, Bohinjska Bistrica\, 4264\, Slovenija
CATEGORIES:Kulturne,Veseli december,Za otroke
ATTACH;FMTTYPE=image/jpeg:https://www.bohinj.si/wp-content/uploads/2024/12/plesalnica-Bohinj.jpg
ORGANIZER;CN="Plesalnica Bohinj":MAILTO:plesalnicabohinj@gmail.com
END:VEVENT
END:VCALENDAR