BEGIN:VCALENDAR
VERSION:2.0
PRODID:-//Bohinj - uradna stran destinacije - TNP, Julijske Alpe, Bohinjsko jezero - ECPv6.15.18//NONSGML v1.0//EN
CALSCALE:GREGORIAN
METHOD:PUBLISH
X-ORIGINAL-URL:https://www.bohinj.si
X-WR-CALDESC:Dogodki za Bohinj - uradna stran destinacije - TNP, Julijske Alpe, Bohinjsko jezero
REFRESH-INTERVAL;VALUE=DURATION:PT1H
X-Robots-Tag:noindex
X-PUBLISHED-TTL:PT1H
BEGIN:VTIMEZONE
TZID:Europe/Ljubljana
BEGIN:DAYLIGHT
TZOFFSETFROM:+0100
TZOFFSETTO:+0200
TZNAME:CEST
DTSTART:20240331T010000
END:DAYLIGHT
BEGIN:STANDARD
TZOFFSETFROM:+0200
TZOFFSETTO:+0100
TZNAME:CET
DTSTART:20241027T010000
END:STANDARD
BEGIN:DAYLIGHT
TZOFFSETFROM:+0100
TZOFFSETTO:+0200
TZNAME:CEST
DTSTART:20250330T010000
END:DAYLIGHT
BEGIN:STANDARD
TZOFFSETFROM:+0200
TZOFFSETTO:+0100
TZNAME:CET
DTSTART:20251026T010000
END:STANDARD
BEGIN:DAYLIGHT
TZOFFSETFROM:+0100
TZOFFSETTO:+0200
TZNAME:CEST
DTSTART:20260329T010000
END:DAYLIGHT
BEGIN:STANDARD
TZOFFSETFROM:+0200
TZOFFSETTO:+0100
TZNAME:CET
DTSTART:20261025T010000
END:STANDARD
END:VTIMEZONE
BEGIN:VEVENT
DTSTART;TZID=Europe/Ljubljana:20251221T150000
DTEND;TZID=Europe/Ljubljana:20251221T200000
DTSTAMP:20260419T194417
CREATED:20251125T121601Z
LAST-MODIFIED:20251211T090953Z
UID:10013282-1766329200-1766347200@www.bohinj.si
SUMMARY:Divja Jaga in Kranjci akustično
DESCRIPTION:Otvoritev fotografske razstave Nejca Ferjana – Divja Jaga\, s pripovedovanjem zgodb Marije Cvetek. Za glasbo pa bo poskrbela glasbena skupina Kranjci. \n\n15:00 – Otvoritev fotografske razstave “DIVJA JAGA” – Nejc Ferjan🖼️\n\nSamo Vidic o avtorju razstave:\nNejc Ferjan ni le fotograf – je opazovalec sveta\, ki vidi drugače. Njegove fotografije ujamejo tisto\, kar večina spregleda. Marljiv\, talentiran in še vedno nebrušen diamant\, a z vsakim posnetkom bolj bleščeč. \n \n\n15:00 – Pripovedovanje ob ognju z MARIJO CVETEK o Divji jagi🔥📜\n\nOtvoritev fotografske razstave Nejca Ferjana bo s pripovedovanjem in razlago o Divji Jagi obogatila ga. Marija Cvetek\, etnologinja\, pisateljica in strokovnjakinja na področju bohinjske duhovne in materialne dediščine. \n\n16:00 – “SAM TA KRATKI” – projekcija kratkih filmov – “Divja jaga”🌲\n\n\nNaši predniki so se naselili v alpskih dolinah\, kjer so zimski dnevi kratki\, noči pa dolge\, temne in nevarne. Tudi narava je znala takrat pokazati zobe in med ujmami so temačne gozdove napolnili zvoki neznanega izvora. V starih časih so si ljudje te nenaravne zvoke razlagali po svoje preko legend in ljudskih pripovedk\, ki so se prenašale iz roda v rod. Iz najbolj črnih kotičkov alpskih dolin in ljudskih propovedk je tako prišla divja jaga. Divja oziroma peklenska jaga je v naših krajih trop divjih psov\, za katerimi teče šepasti mož s sekiro ali peklenšček. Vsako leto ima isto pot in se pojavlja ob kvaternem času. Pripovedke o divji jagi so mistične in pogosto zlovešče saj srečanje z njo pogosto pomeni nesrečo ali celo smrt Legende pravijo\, da lovski pohod ne lovi živali\, pač pa ljudi. Vendar obstajajo načini kako se pred divjo jago zaščitimo. \n\n17:00 – 20:00 – KRANJCI AKUSTIČNO\, glasbeni koncert 🎶\n\nStalno zasedbo skupine Kranjci sestavljajo štirje vrhunski akademski glasbeniki\, katerih bogate izkušnje in reference segajo onkraj kratkega opisa\, saj jih odlikujejo več kot dve desetletji nastopanja na različnih glasbenih odrih. Skupina slovi po širokem in raznolikem repertoarju\, ki vključuje instrumentalne izvedbe priredb znanih klasičnih skladb\, jazz standardov\, zimzelenih melodij\, sodobnih uspešnic ter filmske glasbe. \nAkustični kvartet Zasedbe Kranjci prinaša drugačno doživetje glasbe z intimno in prefinjeno zvočno sliko. Znane melodije v novi\, nepričakovanih izvedbah.
URL:https://www.bohinj.si/prireditev/divja-jaga/
LOCATION:Tržnica Ribčev Laz\, Ribčev Laz 48\, Bohinjsko jezero\, 4265\, Slovenija
CATEGORIES:Advent,Glasba,Izpostavljeno,Kulturne
ATTACH;FMTTYPE=image/jpeg:https://www.bohinj.si/wp-content/uploads/2025/11/Zlata_piscal_2024-195.jpeg
ORGANIZER;CN="Turizem Bohinj":MAILTO:info@bohinj.si
END:VEVENT
BEGIN:VEVENT
DTSTART;TZID=Europe/Ljubljana:20251221T160000
DTEND;TZID=Europe/Ljubljana:20251221T160000
DTSTAMP:20260419T194417
CREATED:20251119T101243Z
LAST-MODIFIED:20251210T104813Z
UID:10012780-1766332800-1766332800@www.bohinj.si
SUMMARY:Filmski večer: Zgodbe iz čarobnega vrta
DESCRIPTION:Čarobna pustolovščina\, kjer zgodbe zdravijo srce in prebudijo spomine\, ki nikoli zares ne izginejo! \n\nCena: 5€ /po osebi\nNakup vstopnic pol ure pred začetkom filma v avli kulturnega doma.\n\nIz prve roke:\nFilm je primeren za celotno družino in govori o univerzalni tematiki – izgubi\, to pa je pomembna tema\, o kateri se je potrebno pogovarjati. Skoraj vsak od nas se je namreč že kdaj soočil z izgubo ljubljene osebe ali hišnega ljubljenčka. Film bo gledalcem pustil v srcu zavedanje\, da se nekoga\, ki ga ni več na tem svetu\, še vedno lahko spominjamo prek slik\, spomina ali domišljije in ga tako prikličemo nazaj. Hkrati gre za zelo poetičen in barvit film\, na trenutke tudi komičen. – Kolja Saksida\, producent \nInfo o filmu:\nLeon Vidmar\, David Súkup\, Patrik Pašš\, Jean-Claude Rozec / Slovenija\, Slovaška\, Francija\, Češka / 2025 / 71 min / sinhronizirano / 7+ \nZgodba:\nTomi (4)\, Suzana (8) in Darko (10) obiščejo dedka\, prvič po izgubi ljubljene babice. V hiši vlada tišina\, dedek pa je kar nekam odsoten in odtujen. Suzana\, navdihnjena s spomini\, prevzame babičino vlogo pripovedovalke zgodb. S čarobnimi pripovedmi in neizmerno domišljijo poskuša povrniti toplino v dedkov dom in v medsebojne odnose. Potopimo se v magični svet skrivnostne mačke\, na prvi pogled strašne pošasti in drznega letečega gospoda. Zgodbe namreč niso le skrivnostne\, dramatične\, žalostne in smešne\, temveč služijo kot pomoč vsem družinskim članom\, da se lažje spoprimejo z izgubo. \nZanimivosti :\nFilm\, ki temelji na prvinah magičnega realizma\, je nastal po literarni predlogi priznanega češkega avtorja Arnošta Goldflama. Razvoj filma se je začel že leta 2017\, med produkcijo pa je na snemalnih setih v štirih državah sodelovalo kar 16 animatorjev. V klasični tehniki lutkovne stop animacije je bilo v 435 snemalnih dneh ustvarjenih 71 minut čarobnega filmskega sveta — pri tem je vsak animator v povprečju posnel 5 sekund filma na dan.
URL:https://www.bohinj.si/prireditev/filmski-vecer-zgodbe-iz-carobnega-gozda/
LOCATION:Kulturni dom Joža Ažmana\, Triglavska cesta 16\, Bohinjska Bistrica\, 4264\, Slovenija
CATEGORIES:Advent,Kino,Veseli december,Za otroke
ATTACH;FMTTYPE=image/jpeg:https://www.bohinj.si/wp-content/uploads/2025/11/zgodbe-iz-carobnega-vrta_2.jpg
ORGANIZER;CN="Turizem Bohinj":MAILTO:info@bohinj.si
END:VEVENT
BEGIN:VEVENT
DTSTART;TZID=Europe/Ljubljana:20251221T170000
DTEND;TZID=Europe/Ljubljana:20251221T170000
DTSTAMP:20260419T194417
CREATED:20251113T224341Z
LAST-MODIFIED:20251113T225657Z
UID:10012769-1766336400-1766336400@www.bohinj.si
SUMMARY:Prižig četrte adventne sveče z Mitjo Jeršičem
DESCRIPTION:Prisrčno vabljeni na četrti dogodek serije Adventni venček Ribčev Laz\, kjer bomo pri spomeniku Štirim srčnim možem prižgali četrto adventno svečo.\nDogodek bo obogaten z nastopom Mitje Jeršiča\, ki bo s svojo glasbo ustvaril praznično in toplo vzdušje ob jezeru. \nSkupaj zaključimo adventni čas in se zberimo ob četrtem prižigu sveče v Ribčevem Lazu. \nZa več informacij: Špela Jensterle\, email: events@bohinj.si
URL:https://www.bohinj.si/prireditev/prizig-cetrte-adventne-svece/
LOCATION:Spomenik Štirim srčnim možem\, Bohinjsko jezero\, 4265\, Slovenija
CATEGORIES:Advent,Glasba,Kulturne
ATTACH;FMTTYPE=image/jpeg:https://www.bohinj.si/wp-content/uploads/2025/11/theo-crazzolara-skxZy-zwVbo-unsplash.jpg
ORGANIZER;CN="Turizem Bohinj":MAILTO:info@bohinj.si
END:VEVENT
BEGIN:VEVENT
DTSTART;TZID=Europe/Ljubljana:20251221T180000
DTEND;TZID=Europe/Ljubljana:20251221T180000
DTSTAMP:20260419T194417
CREATED:20251119T102631Z
LAST-MODIFIED:20251203T111219Z
UID:10012782-1766340000-1766340000@www.bohinj.si
SUMMARY:Filmski večer: Belo se pere na devetdeset
DESCRIPTION:Filmska upodobitev istoimenske knjižne uspešnice Bronje Žakelj\, v kateri je pisateljica opisala lastno življenjsko zgodbo. Film\, ki nas prestavi v Ljubljano osemdesetih let\, je ganljiva\, duhovita in navdihujoča pripoved o odraščanju\, izgubi in preživetju. \n\nCena: 5€ /po osebi\nNakup vstopnic pol ure pred začetkom filma v avli kulturnega doma.\n\nZgodba: \nZgodba spremlja Bronjo skozi različna obdobja življenja. Njen otroški svet sestavljajo starši\, brat Rok\, babica Dada\, pa kakav Benko\, Albert keksi in prenos sarajevskih olimpijskih iger. Potem ko zaradi raka izgubi mamo\, se mora pri dvajsetih s to zahrbtno boleznijo soočiti tudi sama. S številnimi in skoraj nepremostljivimi izzivi se spopada z mešanico solz\, smeha in neomajnega optimizma. \nZanimivosti: \nAvtobiografski prvenec Bronje Žakelj Belo se pere na devetdeset je prvič izšel leta 2018 pri založbi Beletrina. Gre za enega najbolj branih slovenskih romanov zadnjih desetletij\, avtorica pa je leta 2019 zanj prejela tudi nagrado kresnik. \nVabljeni!
URL:https://www.bohinj.si/prireditev/filmski-vecer-belo-se-pere-na-90/
LOCATION:Kulturni dom Joža Ažmana\, Triglavska cesta 16\, Bohinjska Bistrica\, 4264\, Slovenija
CATEGORIES:Advent,Kino
ATTACH;FMTTYPE=image/jpeg:https://www.bohinj.si/wp-content/uploads/2025/11/belo.jpg
ORGANIZER;CN="Turizem Bohinj":MAILTO:info@bohinj.si
END:VEVENT
END:VCALENDAR