BEGIN:VCALENDAR
VERSION:2.0
PRODID:-//Bohinj - uradna stran destinacije - TNP, Julijske Alpe, Bohinjsko jezero - ECPv6.15.18//NONSGML v1.0//EN
CALSCALE:GREGORIAN
METHOD:PUBLISH
X-ORIGINAL-URL:https://www.bohinj.si
X-WR-CALDESC:Dogodki za Bohinj - uradna stran destinacije - TNP, Julijske Alpe, Bohinjsko jezero
REFRESH-INTERVAL;VALUE=DURATION:PT1H
X-Robots-Tag:noindex
X-PUBLISHED-TTL:PT1H
BEGIN:VTIMEZONE
TZID:Europe/Ljubljana
BEGIN:DAYLIGHT
TZOFFSETFROM:+0100
TZOFFSETTO:+0200
TZNAME:CEST
DTSTART:20240331T010000
END:DAYLIGHT
BEGIN:STANDARD
TZOFFSETFROM:+0200
TZOFFSETTO:+0100
TZNAME:CET
DTSTART:20241027T010000
END:STANDARD
BEGIN:DAYLIGHT
TZOFFSETFROM:+0100
TZOFFSETTO:+0200
TZNAME:CEST
DTSTART:20250330T010000
END:DAYLIGHT
BEGIN:STANDARD
TZOFFSETFROM:+0200
TZOFFSETTO:+0100
TZNAME:CET
DTSTART:20251026T010000
END:STANDARD
BEGIN:DAYLIGHT
TZOFFSETFROM:+0100
TZOFFSETTO:+0200
TZNAME:CEST
DTSTART:20260329T010000
END:DAYLIGHT
BEGIN:STANDARD
TZOFFSETFROM:+0200
TZOFFSETTO:+0100
TZNAME:CET
DTSTART:20261025T010000
END:STANDARD
END:VTIMEZONE
BEGIN:VEVENT
DTSTART;TZID=Europe/Ljubljana:20251223T170000
DTEND;TZID=Europe/Ljubljana:20251223T170000
DTSTAMP:20260419T194505
CREATED:20251125T131537Z
LAST-MODIFIED:20251222T141142Z
UID:10013286-1766509200-1766509200@www.bohinj.si
SUMMARY:Bohinjski večer z glasbo\, Divja jaga in Legenda o Zlatorogu
DESCRIPTION:Pripovedovanje ob ognju z Gledališčem 2B\, projekcija animiranega filma Legenda o Zlatorogu\, Divja Jaga in koncert duo Rok in Nejc. \nLetos bo v zadnjem tednu decembra ozivelo tudi prizorisce na Ribcevem lazu pri Divji Jagi z ustvarjalnimi delavnicami v Brlogu (pokrit paviljon)\, toplim kuhanim vinom in čajem\, posebno zimsko ponudbo hrane Divje Jage\, showi\, glasbo\, predstavami in igrami za vse generacije. \n🔥Program (torek\, 23. 12. 2025): \n\n17:00 – Pripovedovanje ob ognju – Gledališče 2B – Bohinjske pravljice🌲\n17.00 – projekcija animiranega filma Legenda o Zlatorogu🐏\n18:00 – SAM TA KRATKI – projekcija kratkih filmov – “Divja jaga”🎞️\n18:00 – Rok in Nejc – koncert🎸\n\nAkustični duo\, ki igra stare in nove hite od slovenskega in Yugo rocka do angleških klasik. \nVabljeni!
URL:https://www.bohinj.si/prireditev/bohinjski-vecer-z-glasbo/
LOCATION:Tržnica Ribčev Laz\, Ribčev Laz 48\, Bohinjsko jezero\, 4265\, Slovenija
CATEGORIES:Advent,Glasba
ATTACH;FMTTYPE=image/jpeg:https://www.bohinj.si/wp-content/uploads/2025/11/ribcev-laz.jpg
ORGANIZER;CN="Turizem Bohinj":MAILTO:info@bohinj.si
END:VEVENT
END:VCALENDAR