BEGIN:VCALENDAR
VERSION:2.0
PRODID:-//Bohinj - uradna stran destinacije - TNP, Julijske Alpe, Bohinjsko jezero - ECPv6.15.18//NONSGML v1.0//EN
CALSCALE:GREGORIAN
METHOD:PUBLISH
X-ORIGINAL-URL:https://www.bohinj.si
X-WR-CALDESC:Dogodki za Bohinj - uradna stran destinacije - TNP, Julijske Alpe, Bohinjsko jezero
REFRESH-INTERVAL;VALUE=DURATION:PT1H
X-Robots-Tag:noindex
X-PUBLISHED-TTL:PT1H
BEGIN:VTIMEZONE
TZID:Europe/Ljubljana
BEGIN:DAYLIGHT
TZOFFSETFROM:+0100
TZOFFSETTO:+0200
TZNAME:CEST
DTSTART:20240331T010000
END:DAYLIGHT
BEGIN:STANDARD
TZOFFSETFROM:+0200
TZOFFSETTO:+0100
TZNAME:CET
DTSTART:20241027T010000
END:STANDARD
BEGIN:DAYLIGHT
TZOFFSETFROM:+0100
TZOFFSETTO:+0200
TZNAME:CEST
DTSTART:20250330T010000
END:DAYLIGHT
BEGIN:STANDARD
TZOFFSETFROM:+0200
TZOFFSETTO:+0100
TZNAME:CET
DTSTART:20251026T010000
END:STANDARD
BEGIN:DAYLIGHT
TZOFFSETFROM:+0100
TZOFFSETTO:+0200
TZNAME:CEST
DTSTART:20260329T010000
END:DAYLIGHT
BEGIN:STANDARD
TZOFFSETFROM:+0200
TZOFFSETTO:+0100
TZNAME:CET
DTSTART:20261025T010000
END:STANDARD
END:VTIMEZONE
BEGIN:VEVENT
DTSTART;TZID=Europe/Ljubljana:20251227T160000
DTEND;TZID=Europe/Ljubljana:20251227T190000
DTSTAMP:20260419T194616
CREATED:20251126T100133Z
LAST-MODIFIED:20251211T121616Z
UID:10013290-1766851200-1766862000@www.bohinj.si
SUMMARY:Otepovci\, čajanka in delavnica za otroke
DESCRIPTION:OTEPOVCI\, ŽIVA GLASBA\, KRATKI FILMI (17:00 – 19:00) \n\nNastop otroške folklorne skupine Žgančki🪗\nSAM TA KRATKI: projekcija kratkih filmov – “Obhod otepovcev na štefanovo”\nGlasbeni program in obisk otepovcev – Divja Jaga\n\nTržnična ponudba\, Igre za vso družino\, druženje ob ognju od 14:00 naprej. \n🌲USTVARJALNICE V “BRLOGU”🌲 \n\n16:00 – Izdelava lantern – Cvetulka✨\n\nSkupaj bomo izdelovali lanterne ter se z njimi odpravili na večerni sprehod. \n\n17:00 – Čajanka “V objemu gora” – Vesna Cesar🌿 (10 €/ po osebi)\n\nNa čajanki bomo ob skodelici domačega čaja spoznavali različna zelišča in odkrivali zanimive kombinacije za mešanje čajnih mešanic.\nPoleg toplega čaja bomo ustvarili tudi praktično darilo\, ki ga boš lahko odnesel/-a s seboj. \nKer smo v prazničnem času\, bomo pokukali v svet kadil. Naučili se bomo\, kako pripraviti dve vrsti kadil\, ter kako zelišča\, kot so pelin\, žajbelj\, lovor\, timijan\, rman in mnoga druga\, uporabiti za namen čiščenja\, obreda in ali ustvarjanja prijetnega ambienta. \nKaj bomo še spoznali?\nNaj ostane mala skrivnost\, ki jo razkrijemo šele na delavnici.  \nDelavnica je namenjena vsem\, ki vas zanima\, kako lahko zelišča uporabimo tudi drugače kot le za čaj – na ustvarjalen\, dišeč in navdihujoč način. \n\n❗ Število mest je omejeno❗\n Na delavnici lahko sprejmemo le 7 oseb\, zato pohiti s prijavo – mesta se hitro polnijo.\nCENA delavnice: 10 €/ po osebi\n\n🫖Čaj pijemo 27. 12. 2025 od 17.00 do 19.30 ure na Ribčevem Lazu🫖 \nPrijave zbiramo na: vobjemugora@gmail.com
URL:https://www.bohinj.si/prireditev/otepovci-cajanka-in-delavnica-za-otroke/
LOCATION:Tržnica Ribčev Laz\, Ribčev Laz 48\, Bohinjsko jezero\, 4265\, Slovenija
CATEGORIES:Advent,Delavnice,Glasba,Za otroke
ATTACH;FMTTYPE=image/png:https://www.bohinj.si/wp-content/uploads/2025/11/Posnetek-zaslona-2025-11-26-105704.png
ORGANIZER;CN="Turizem Bohinj":MAILTO:info@bohinj.si
END:VEVENT
BEGIN:VEVENT
DTSTART;TZID=Europe/Ljubljana:20251227T170000
DTEND;TZID=Europe/Ljubljana:20251227T170000
DTSTAMP:20260419T194616
CREATED:20251119T103447Z
LAST-MODIFIED:20251210T104947Z
UID:10012784-1766854800-1766854800@www.bohinj.si
SUMMARY:Filmski večer: Elvis Škorc
DESCRIPTION:Celovečerni mladinski-družinski film Elvis Škorc na duhovit način predstavlja zamotan svet štirinajstletnika\, ki že od malega ve\, da bo izumitelj. \n\ncena: 5 €/po osebi\nNakup vstopnic pol ure pred začetkom filma v avli kulturnega doma.\n\nZgodba:\nElvis (14)\, ki ga svet ne razume\, prisega na stripe\, kemijo in Hano\, najlepše dekle na šoli. Njegovo življenje se popolnoma spremeni\, ko se starši ločijo in si dom deli z mamo\, mlajšo sestro ter babico. Nepričakovani družinski cunami doseže vrhunec z materino novico\, da je noseča. V smešni\, zabavni in dinamični najstniški odisejadi Elvisu nekako uspe razrešiti vse težave in zaplete\, zlepiti koščke svojega razbitega življenja ostati zvest sebi. \nFilm je posnet po istoimenski knjižni uspešnici o sodobnem slovenskem Jadranu Krtu\, za katerega je Janja Vidmar prejela številne nagrade.
URL:https://www.bohinj.si/prireditev/filmski-vecer-elvis-skorc/
LOCATION:Kulturni dom Joža Ažmana\, Triglavska cesta 16\, Bohinjska Bistrica\, 4264\, Slovenija
CATEGORIES:Advent,Kino,Za otroke
ATTACH;FMTTYPE=image/png:https://www.bohinj.si/wp-content/uploads/2025/11/62a_03-01-Yyv9zKLq23SGGlp3-1.png
ORGANIZER;CN="Turizem Bohinj":MAILTO:info@bohinj.si
END:VEVENT
BEGIN:VEVENT
DTSTART;TZID=Europe/Ljubljana:20251227T190000
DTEND;TZID=Europe/Ljubljana:20251227T190000
DTSTAMP:20260419T194616
CREATED:20251125T090219Z
LAST-MODIFIED:20251125T090308Z
UID:10013268-1766862000-1766862000@www.bohinj.si
SUMMARY:Božična skrivnost s Triglavskimi rož'cami
DESCRIPTION:Triglavske Rožce- KD Bohinj\, organiziramo koncert božičnih pesmi v kapeli župnišča v Srednji vasi\, ob 19.uri. \nGostje so Otroško- mladinski pevski zbor Kapljice iz Koprivnika. \nVstop je prost\, vabljeni!
URL:https://www.bohinj.si/prireditev/bozicna-skrivnost-s-triglavskimi-rozcami/
LOCATION:v kapeli župnišča v Srednji vasi\, 4267
CATEGORIES:Advent,Glasba,Kulturne
ATTACH;FMTTYPE=image/jpeg:https://www.bohinj.si/wp-content/uploads/2024/12/468990923_1386153069423952_737978295694376090_n.jpg
END:VEVENT
BEGIN:VEVENT
DTSTART;TZID=Europe/Ljubljana:20251227T190000
DTEND;TZID=Europe/Ljubljana:20251227T210000
DTSTAMP:20260419T194616
CREATED:20251127T123400Z
LAST-MODIFIED:20251201T125420Z
UID:10013302-1766862000-1766869200@www.bohinj.si
SUMMARY:Hearts Of Stones\, The Rolling stones tribute
DESCRIPTION:Skupina je nastala leta 2017 povsem spontano\, ko so se člani zbrali za priložnostni koncert pod imenom Like The Rolling Stones na enem od poletnih festivalov. Ker je odziv publike pokazal\, da je glasba največje rock skupine vseh časov še kako živa\, ni bilo težko nadaljevati. Odigrali smo še nekaj koncertov in zgodba se je začela. \nHearts Of Stones nismo tipičen tribute band. Bolj kot zunanja podoba in odrska koreografija nam je pomembna glasbena iskrenost in energija ter pristen zvok. Naš glasbeni program zajema vse večje uspešnice\, kot tudi nekaj manj znanih\, a atraktivnih skladb. Vsak naš nastop je tako svojevrstno glasbeno doživetje\, na katerem pridejo na svoj račun ljubitelji kultnih Stonesov. \nHearts Of Stones redno nastopamo na slovenskih glasbenih odrih. V času svojega delovanja je skupina večkrat nastopila tudi v tujini\, na nekaterih festivalih in zasebnih dogodkih. \nVstop je prost\, vabljeni❗ \n 
URL:https://www.bohinj.si/prireditev/hearts-of-stones-the-rolling-stones-tribute/
LOCATION:Park pred Kulturnim domom Joža Ažmana\, Slovenija
CATEGORIES:Advent,Glasba,Izpostavljeno,Koncert
ATTACH;FMTTYPE=image/png:https://www.bohinj.si/wp-content/uploads/2025/11/Posnetek-zaslona-2025-11-27-133146.png
ORGANIZER;CN="Turizem Bohinj":MAILTO:info@bohinj.si
END:VEVENT
END:VCALENDAR