BEGIN:VCALENDAR
VERSION:2.0
PRODID:-//Bohinj - uradna stran destinacije - TNP, Julijske Alpe, Bohinjsko jezero - ECPv6.15.18//NONSGML v1.0//EN
CALSCALE:GREGORIAN
METHOD:PUBLISH
X-WR-CALNAME:Bohinj - uradna stran destinacije - TNP, Julijske Alpe, Bohinjsko jezero
X-ORIGINAL-URL:https://www.bohinj.si
X-WR-CALDESC:Dogodki za Bohinj - uradna stran destinacije - TNP, Julijske Alpe, Bohinjsko jezero
REFRESH-INTERVAL;VALUE=DURATION:PT1H
X-Robots-Tag:noindex
X-PUBLISHED-TTL:PT1H
BEGIN:VTIMEZONE
TZID:Europe/Ljubljana
BEGIN:DAYLIGHT
TZOFFSETFROM:+0100
TZOFFSETTO:+0200
TZNAME:CEST
DTSTART:20240331T010000
END:DAYLIGHT
BEGIN:STANDARD
TZOFFSETFROM:+0200
TZOFFSETTO:+0100
TZNAME:CET
DTSTART:20241027T010000
END:STANDARD
BEGIN:DAYLIGHT
TZOFFSETFROM:+0100
TZOFFSETTO:+0200
TZNAME:CEST
DTSTART:20250330T010000
END:DAYLIGHT
BEGIN:STANDARD
TZOFFSETFROM:+0200
TZOFFSETTO:+0100
TZNAME:CET
DTSTART:20251026T010000
END:STANDARD
BEGIN:DAYLIGHT
TZOFFSETFROM:+0100
TZOFFSETTO:+0200
TZNAME:CEST
DTSTART:20260329T010000
END:DAYLIGHT
BEGIN:STANDARD
TZOFFSETFROM:+0200
TZOFFSETTO:+0100
TZNAME:CET
DTSTART:20261025T010000
END:STANDARD
END:VTIMEZONE
BEGIN:VEVENT
DTSTART;TZID=Europe/Ljubljana:20251229T150000
DTEND;TZID=Europe/Ljubljana:20251229T190000
DTSTAMP:20260419T180822
CREATED:20251126T122432Z
LAST-MODIFIED:20251126T131435Z
UID:10013294-1767020400-1767034800@www.bohinj.si
SUMMARY:Ledeni zaklad
DESCRIPTION:🌲USTVARJALNICE V “BRLOGU”🌲 \n\n15:00 – 16:00: Izdelovanje zlatih rogov – Cvetulka✨\n\nVabljeni na delavnico\, kjer si bo vsak lahko izdelal svoje zlatorogovo rogovje! Delavnico bosta vodili Rozi in Špela. Po tem si bomo skupaj ogledali kratek animiran film Lee Vučko in Damirja Grbanoviča\, Legenda o Zlatorogu. \n\n16:00 – Ledeni show – izdelovanje skulpture iz ledu❄️\n\n\n17:00 – SAM TA KRATKI – projekcija kratkih filmov – “Legenda o Zlatorogu” – pogovor z Leo in Damirjem (avtorja animiranega filma)🎥\n\n\n16:00 – 19:00 -Disko pešec – funk / disco / soul glasba🪩\n\nMed 16. in 19. uro bo za funky glasbo\, ki bo spremljala popoldnsko dogajanje\, skrbel Disko Pešec. Vabljeni vozniki\, sprehajalci\, letalci\, padalci in vsi ostali mimoidoči.
URL:https://www.bohinj.si/prireditev/ledeni-zaklad/
LOCATION:Tržnica Ribčev Laz\, Ribčev Laz 48\, Bohinjsko jezero\, 4265\, Slovenija
CATEGORIES:Advent,Delavnice,Glasba,Kulturne,Za otroke
ATTACH;FMTTYPE=image/jpeg:https://www.bohinj.si/wp-content/uploads/2025/11/Ledene-skulpture-2-005-1.jpg
ORGANIZER;CN="Turizem Bohinj":MAILTO:info@bohinj.si
END:VEVENT
BEGIN:VEVENT
DTSTART;TZID=Europe/Ljubljana:20251229T170000
DTEND;TZID=Europe/Ljubljana:20251229T170000
DTSTAMP:20260419T180822
CREATED:20251107T114955Z
LAST-MODIFIED:20251210T105312Z
UID:10012751-1767027600-1767027600@www.bohinj.si
SUMMARY:Legenda o Zlatorogu – projekcija in pogovor z avtorjema
DESCRIPTION:Vabljeni na posebno decembrsko projekcijo animiranega filma Legenda o Zlatorogu\, ki bo obogatena s pogovorom z avtorjema Leo Vučko in Damirjem Grbanovićem. Dogodek ponuja vpogled v ozadje nastajanja nagrajenega filma\, ki temelji na znani slovenski pripovedki o Zlatorogu – simbolu narave\, poguma in ravnovesja med človekom in goro. \n29. december ob 17.00 \nDogodek je namenjen vsem ljubiteljem animacije\, filma\, umetnosti in slovenskih legend. Pridružite se večeru\, ki združuje ustvarjalnost\, navdih in pripovedno tradicijo Bohinja. \nObenem vas vabimo\, da si od 30. novembra do 30. decembra ogledate razstavo animacij iz filma v Hotelu Jezero\, ki predstavlja izbrane ilustracije\, ozadja in kadre ter razkriva del ustvarjalnega procesa nastajanja filma. \nTeaser:
URL:https://www.bohinj.si/prireditev/legenda-o-zlatorogu-projekcija-in-pogovor-z-avtorjema/
LOCATION:Tržnica Ribčev Laz\, Ribčev Laz 48\, Bohinjsko jezero\, 4265\, Slovenija
CATEGORIES:Kino,Kulturne,Razstave
ATTACH;FMTTYPE=image/png:https://www.bohinj.si/wp-content/uploads/2025/11/osnova-prazna-ZLATOROG.png
ORGANIZER;CN="Turizem Bohinj":MAILTO:info@bohinj.si
END:VEVENT
BEGIN:VEVENT
DTSTART;TZID=Europe/Ljubljana:20251229T190000
DTEND;TZID=Europe/Ljubljana:20251229T210000
DTSTAMP:20260419T180822
CREATED:20251117T132526Z
LAST-MODIFIED:20251201T125634Z
UID:10012775-1767034800-1767042000@www.bohinj.si
SUMMARY:Klemen Klemen in Prismojeni profesorji bluesa
DESCRIPTION:Klemen Klemen po triumfalnem koncertu ob praznovanju Abrahama s svojimi Prismojenimi profesorji bluesa prihaja na prednovoletni bohinjski oder. \nRaper z enakim imenom in priimkom\, ki si s prelomnim albumom “Trnow stajl” lasti rekord najbolj prodajanega slovenskega raperskega albuma vseh časov\, je pripovedalec ljubljanskih in trnovskih zgodb. Raper\, ki je ime ljubljanske soseske Trnovo predstavil širši Sloveniji\, se s pisanjem besedil in rapanje ubada že od osnovnošolskih let dalje. \nŠirši javnosti se je najprej predstavil na gostovanju pri Ali Enu ter na albumih Pasjega kartela\, ki sta ga sicer tvorila smučarja Jure Košir ter Matej Jovan\, leta 2000 pa je zamajal slovensko sceno s sočnim\nvokabularjem na albumu Trnow Stajl\, s katerim je dokončno osvojil tako mlade kot malce starejše poslušalce. “Keš pičke”\, “Baraba” in “Still Love Her”\, zgodba o njegovi prvi ljubezni Nataši in druge\, so se usidrale v srca občinstva in do danes ostajajo del njegovega železnega repertoarja. Leta 2003 je izdal minimalistični album “Hipnoza” in si vzel dvanajst letno pavzo do svojega tretjega albuma “S3P”\, od koder je publika najbolj posvojila “Ljubezen”. Ves ta čas Klemen ostaja brez dlake na jeziku in necenzuriran\, zgodbe nam predstavlja po svoje in se ne uklanja aktualnim glasbenim tokovom. \nV kolikor je prvenec poln postopaških\, razgrajaških in uličnih zgodb\, “Hipnoza” hipnotično popotovanju po svetu slovenske poezije in naših navad je “S3P” njegov pogled na svet tako fikcije kot upanja\, spoštovanja in ljubezni. Njegov raperski svet ostaja prežet z različnimi stanji in razpoloženji v kar se lahko prepričate tudi na tokratnem koncertu\, kjer boste deležni tako grozljivih zgodb\, barabinskih vragolij kot ekstatične ljubezni.
URL:https://www.bohinj.si/prireditev/klemen-klemen-in-prismojeni-profesorji-bluesa/
LOCATION:Park pred Kulturnim domom Joža Ažmana\, Slovenija
CATEGORIES:Advent,Glasba,Izpostavljeno,Koncert,Kulturne
ATTACH;FMTTYPE=image/jpeg:https://www.bohinj.si/wp-content/uploads/2025/11/image00001.jpeg
ORGANIZER;CN="Turizem Bohinj":MAILTO:info@bohinj.si
END:VEVENT
END:VCALENDAR