BEGIN:VCALENDAR
VERSION:2.0
PRODID:-//Bohinj - uradna stran destinacije - TNP, Julijske Alpe, Bohinjsko jezero - ECPv6.15.18//NONSGML v1.0//EN
CALSCALE:GREGORIAN
METHOD:PUBLISH
X-WR-CALNAME:Bohinj - uradna stran destinacije - TNP, Julijske Alpe, Bohinjsko jezero
X-ORIGINAL-URL:https://www.bohinj.si
X-WR-CALDESC:Dogodki za Bohinj - uradna stran destinacije - TNP, Julijske Alpe, Bohinjsko jezero
REFRESH-INTERVAL;VALUE=DURATION:PT1H
X-Robots-Tag:noindex
X-PUBLISHED-TTL:PT1H
BEGIN:VTIMEZONE
TZID:Europe/Ljubljana
BEGIN:DAYLIGHT
TZOFFSETFROM:+0100
TZOFFSETTO:+0200
TZNAME:CEST
DTSTART:20240331T010000
END:DAYLIGHT
BEGIN:STANDARD
TZOFFSETFROM:+0200
TZOFFSETTO:+0100
TZNAME:CET
DTSTART:20241027T010000
END:STANDARD
BEGIN:DAYLIGHT
TZOFFSETFROM:+0100
TZOFFSETTO:+0200
TZNAME:CEST
DTSTART:20250330T010000
END:DAYLIGHT
BEGIN:STANDARD
TZOFFSETFROM:+0200
TZOFFSETTO:+0100
TZNAME:CET
DTSTART:20251026T010000
END:STANDARD
BEGIN:DAYLIGHT
TZOFFSETFROM:+0100
TZOFFSETTO:+0200
TZNAME:CEST
DTSTART:20260329T010000
END:DAYLIGHT
BEGIN:STANDARD
TZOFFSETFROM:+0200
TZOFFSETTO:+0100
TZNAME:CET
DTSTART:20261025T010000
END:STANDARD
END:VTIMEZONE
BEGIN:VEVENT
DTSTART;TZID=Europe/Ljubljana:20251230T160000
DTEND;TZID=Europe/Ljubljana:20251230T190000
DTSTAMP:20260419T180308
CREATED:20251126T131237Z
LAST-MODIFIED:20251208T132033Z
UID:10013296-1767110400-1767121200@www.bohinj.si
SUMMARY:Ustvarjalnice v brlogu in Joliette Anžlovar trio
DESCRIPTION:Pestro praznično dogajanje na Ribčevem Lazu! \n✨USTVARJALNICE V BRLOGU✨ \n\n16:00 – Zvočno gibalna delavnica za otroke – Mina Kunstelj🎶\n\nNa delavnici skozi zvok\, pesem in gibalno plesne igre spoznavamo elemente narave\, ki nas gradijo in od katerih smo odvisni. Še posebej se poklonimo Soncu\, da bi spet topleje zasijalo in nas ogrelo. Spoznamo nove pesmi in nekatere inštrumente. Zaigra nam  tudi sončna kabrca\, stara slovenska (posoška) piščal.   \n\n17:00 – UV tattoo z Rozi🖌️\n\nUV tattoo- čarobni\, svetleči tattooji in magična UVaaau zabava.  \n\n18:00 –  Joliette Anžlovar trio (pop/rnb/jazz)🎤\n\nJoliette Anžlovar (19. april 2004) je mlada perspektivna vokalistka\, ki sodi med novo generacijo slovenskih pevk. Že pri petih letih je prvič nastopila z Big Bandom RTV Slovenija\,na priljubljenem otroškem festivalu Veseli tobogan\, kar je bil uvod v njeno bogato in raznoliko glasbeno pot. Kot otrok je redno sodelovala pri radijskih snemanjih in televizijskih projektih RTV Slovenija\, kar ji je omogočilo pogled v profesionalni svet glasbe. Poleg basista Jošta Lampreta je 12. In 13. Maja 2025 zastopala Slovenijo\, kot solistka na 60 letnici Euroradijskega Jazz Orkestra\, pod vodstvom Matjaža Mikuletiča.Svojo formalno glasbeno izobrazbo je pridobila na Konservatoriju za glasbo in balet Ljubljana\, študij pa nadaljuje na Univerzi za glasbo in upodabljajočo umetnost v Gradcu. Njeno delovanje zaznamujejo redna sodelovanja z uglednimi domačimi in tujimi glasbeniki\, ( Big Band RTV Slovenija\,Ameen Saleem\, Michael Janisch\, Sanem Kalfa\, Theo Croker\, Corey Wilcox\, James Francies\, John Escreet\, Greg Hutchinson\, Thana Alexa\, Ben Van Gelder\, Alex Sipiagin\, Lucy Edwards\, Nasheet Waits\, Chris Smith\, Nina Strnad\, Jure Pukl\, Tadej Kampl\, Igor Leonardi\, Igor Bezget\, Katja Koren\, Jošt Lampret\, Lovro Ravbar\, Lazaro Zummeta\, Marko Churnchetz\, Theo Crocker\, Matej Hotko\, Matjaž Mikuletič…)\,nastopi na priznanih festivalih in glasbenih izobraževanjih\, ter uspehi na tekmovanjih -med drugim je leta 2025 prejela srebrno plaketo na državnem tekmovanju TEMSIG kot članica jazzovske combo zasedbe.Stilsko se ne omejuje\, saj redno nastopa z razlicnimi zasedbami in z veseljem raziskuje razlicne glasbene žanre. \nIgre za vso družino\, druženje ob ognju od 14:00 naprej!🔥
URL:https://www.bohinj.si/prireditev/ustvarjalnice-v-brlogu-joliette-anzlovar-trio/
LOCATION:Tržnica Ribčev Laz\, Ribčev Laz 48\, Bohinjsko jezero\, 4265\, Slovenija
CATEGORIES:Advent,Delavnice,Glasba,Izpostavljeno,Za otroke
ATTACH;FMTTYPE=image/jpeg:https://www.bohinj.si/wp-content/uploads/2025/11/1000017932.jpeg
ORGANIZER;CN="Turizem Bohinj":MAILTO:info@bohinj.si
END:VEVENT
BEGIN:VEVENT
DTSTART;TZID=Europe/Ljubljana:20251230T210000
DTEND;TZID=Europe/Ljubljana:20251231T010000
DTSTAMP:20260419T180308
CREATED:20251110T074732Z
LAST-MODIFIED:20251230T103012Z
UID:10012753-1767128400-1767142800@www.bohinj.si
SUMMARY:Dejan Vunjak in Brendijeve barabe
DESCRIPTION:Ko se leto izteka\, Bohinj znova zaživi v ritmih dobre glasbe\, smeha in pristnega veselja! \nV torek\, 30. decembra 2025\, vas vabimo na prednovoletno zabavo s priljubljenim Dejanom Vunjakom in Brendijevimi barabami\, ki bodo s svojimi uspešnicami in energijo poskrbeli\, da se bomo v novo leto lahkotno zaplesali. \nDogodek bo potekal v pokritem prireditvenem prostoru ob dvorani Danica v Bohinjski Bistrici\, kjer bo toplo\, živahno in veselo – torej vse\, kar spada k pravi bohinjski zabavi. Od 21. ure do 1. zjutraj bomo peli\, plesali in se družili v sproščenem vzdušju\, ki ga znata pričarati le Dejan in njegova zasedba. \nBREZPLAČNI PREVOZI: \n\n4 linije: Spodnja dolina\, Zgornja dolina\, Gorjuše\, Ukanc\nObratujejo med 20:30 in 3:00 zjutraj\nVozni redi: https://promet.bohinj.si/prevozi/\n\nBREZPLAČNO PARKIRANJE:\nbo na dan dogoka omogočeno na naslednjih lokacijah: \n\npred OŠ Dr. Janeza Mencingerja\npred trgovino Spar ob pokopališču\nin na parkirišču ob smučišču Kobla\n\nČe iščete popoln način\, kako zaključiti leto v dobri družbi\, z glasbo\, ki dvigne razpoloženje in srca\, potem si ta večer v Bohinju preprosto morate privoščiti. Pridite\, zaplešite in z nasmehom nazdravite koncu starega leta! \n \n 
URL:https://www.bohinj.si/prireditev/dejan-vunjak-in-brendijeve-barabe-2/
LOCATION:Prizorišče pred dvorano Danica\, Bohinjska Bistrica\, 4264\, Slovenija
CATEGORIES:Glasba,Izpostavljeno,Koncert,Kulturne,Veseli december
ATTACH;FMTTYPE=image/jpeg:https://www.bohinj.si/wp-content/uploads/2025/11/DV-Slika-za-promocijo-1-e1763546720390.jpg
ORGANIZER;CN="Turisti%C4%8Dno dru%C5%A1tvo Bohinj":MAILTO:info@tdbohinj.si
END:VEVENT
END:VCALENDAR