BEGIN:VCALENDAR
VERSION:2.0
PRODID:-//Bohinj - uradna stran destinacije - TNP, Julijske Alpe, Bohinjsko jezero - ECPv6.15.18//NONSGML v1.0//EN
CALSCALE:GREGORIAN
METHOD:PUBLISH
X-WR-CALNAME:Bohinj - uradna stran destinacije - TNP, Julijske Alpe, Bohinjsko jezero
X-ORIGINAL-URL:https://www.bohinj.si
X-WR-CALDESC:Dogodki za Bohinj - uradna stran destinacije - TNP, Julijske Alpe, Bohinjsko jezero
REFRESH-INTERVAL;VALUE=DURATION:PT1H
X-Robots-Tag:noindex
X-PUBLISHED-TTL:PT1H
BEGIN:VTIMEZONE
TZID:Europe/Ljubljana
BEGIN:DAYLIGHT
TZOFFSETFROM:+0100
TZOFFSETTO:+0200
TZNAME:CEST
DTSTART:20250330T010000
END:DAYLIGHT
BEGIN:STANDARD
TZOFFSETFROM:+0200
TZOFFSETTO:+0100
TZNAME:CET
DTSTART:20251026T010000
END:STANDARD
BEGIN:DAYLIGHT
TZOFFSETFROM:+0100
TZOFFSETTO:+0200
TZNAME:CEST
DTSTART:20260329T010000
END:DAYLIGHT
BEGIN:STANDARD
TZOFFSETFROM:+0200
TZOFFSETTO:+0100
TZNAME:CET
DTSTART:20261025T010000
END:STANDARD
BEGIN:DAYLIGHT
TZOFFSETFROM:+0100
TZOFFSETTO:+0200
TZNAME:CEST
DTSTART:20270328T010000
END:DAYLIGHT
BEGIN:STANDARD
TZOFFSETFROM:+0200
TZOFFSETTO:+0100
TZNAME:CET
DTSTART:20271031T010000
END:STANDARD
END:VTIMEZONE
BEGIN:VEVENT
DTSTART;TZID=Europe/Ljubljana:20260221T100000
DTEND;TZID=Europe/Ljubljana:20260221T100000
DTSTAMP:20260419T162415
CREATED:20260213T081653Z
LAST-MODIFIED:20260213T083122Z
UID:10013630-1771668000-1771668000@www.bohinj.si
SUMMARY:Mednarodni dan turističnih vodnikov v Bohinju
DESCRIPTION:februarja obeležujemo mednarodni dan turističnih vodnikov\, katerega namen je predstaviti pomembno vlogo turističnih vodnikov kot nepogrešljivega dela turistične ponudbe destinacije Bohinj ter domačine in obiskovalce še bolj povezati z lepotami in vrednotami našega kraja. \n\n\nDan turističnih vodnikov bomo praznovali tudi v Bohinju z Rajžo po Bohinjski Bistrici.  \nSpoznali bomo razvoj Bistrice in tudi trajnostne zelene vidike naše destinacije. Pomniki zgodovine nam pripovedujejo zgodovino Bistrice od pradavnine in starodavnega železarstva\, kmetijstva in sirarstva. Gradnja bohinjske proge in bohinjskega tunela je prinesla razcvet turizma. Bistrica je bila tudi zaledje Soške fronte v 1. svetovni vojni. Vodenje nam prikaže razvoj Bistrice do današnjega izgleda upravnega središča Občine Bohinj \nZbirno mesto : parkirišče pred Gostiščem Danica 21.2.2026 ob 10.00 uri\nKontakt: Marija  040237812
URL:https://www.bohinj.si/prireditev/mednarodni-dan-turisticnih-vodnikov-v-bohinju/
LOCATION:parkirišče pred gostiščem Danica\, Bohinjska Bistrica\, 4265\, Slovenija
CATEGORIES:Kulturne
ATTACH;FMTTYPE=image/png:https://www.bohinj.si/wp-content/uploads/2026/02/Screenshot-2026-02-13-at-08.58.07.png
ORGANIZER;CN="Marija %C5%BDvan":MAILTO:marija.zvan@gmail.com
END:VEVENT
END:VCALENDAR